BEGIN:VCALENDAR
VERSION:2.0
PRODID:-//Tukios.com/
BEGIN:VEVENT
UID:df586b8e-11fb-48fa-b985-aa0ba1e20e34@www.grinerfuneralhome.com
DTSTAMP:20260423T230030Z
DTSTART:20260429T160000Z
DTEND:20260429T170000Z
SUMMARY:Memorial Service
DESCRIPTION:
URL:https://www.grinerfuneralhome.com/obituaries/jhamal-smith
LOCATION: 25 Boulevard NE,  Atlanta GA 30312
GEO:33.7548283;-84.3718246
END:VEVENT
END:VCALENDAR